BEGIN:VCALENDAR
VERSION:2.0
PRODID:icalendar-ruby
CALSCALE:GREGORIAN
METHOD:PUBLISH
BEGIN:VEVENT
DTSTAMP:20260424T214653Z
UID:251-2533908@evangelbathurst.ca
DTSTART:20260731T220000Z
DTEND:20260801T000000Z
CLASS:PUBLIC
CREATED:20260424T160348
DESCRIPTION:
LAST-MODIFIED:20260424T160348
LOCATION:
SUMMARY:Elevate Youth
URL;VALUE=URI:https://www.evangelbathurst.ca/events/elevate-youth/2026-07-3
 1
END:VEVENT
END:VCALENDAR
