BEGIN:VCALENDAR
VERSION:2.0
PRODID:icalendar-ruby
CALSCALE:GREGORIAN
METHOD:PUBLISH
BEGIN:VEVENT
DTSTAMP:20260424T234346Z
UID:251-2535182@evangelbathurst.ca
DTSTART:20260807T220000Z
DTEND:20260808T000000Z
CLASS:PUBLIC
CREATED:20260424T185149
DESCRIPTION:
LAST-MODIFIED:20260424T185149
LOCATION:
SUMMARY:Elevate Youth
URL;VALUE=URI:https://www.evangelbathurst.ca/events/elevate-youth/2026-08-0
 7
END:VEVENT
END:VCALENDAR
