BEGIN:VCALENDAR
VERSION:2.0
PRODID:icalendar-ruby
CALSCALE:GREGORIAN
METHOD:PUBLISH
BEGIN:VEVENT
DTSTAMP:20260425T015226Z
UID:251-2536456@evangelbathurst.ca
DTSTART:20260814T220000Z
DTEND:20260815T000000Z
CLASS:PUBLIC
CREATED:20260424T213945
DESCRIPTION:
LAST-MODIFIED:20260424T213945
LOCATION:
SUMMARY:Elevate Youth
URL;VALUE=URI:https://www.evangelbathurst.ca/events/elevate-youth/2026-08-1
 4
END:VEVENT
END:VCALENDAR
