BEGIN:VCALENDAR
VERSION:2.0
PRODID:icalendar-ruby
CALSCALE:GREGORIAN
METHOD:PUBLISH
BEGIN:VEVENT
DTSTAMP:20260425T034611Z
UID:251-2536457@evangelbathurst.ca
DTSTART:20260821T220000Z
DTEND:20260822T000000Z
CLASS:PUBLIC
CREATED:20260424T213945
DESCRIPTION:
LAST-MODIFIED:20260424T213945
LOCATION:
SUMMARY:Elevate Youth
URL;VALUE=URI:https://www.evangelbathurst.ca/events/elevate-youth/2026-08-2
 1
END:VEVENT
END:VCALENDAR
