BEGIN:VCALENDAR
VERSION:2.0
PRODID:icalendar-ruby
CALSCALE:GREGORIAN
METHOD:PUBLISH
BEGIN:VEVENT
DTSTAMP:20260425T112955Z
UID:251-2537735@evangelbathurst.ca
DTSTART:20260918T220000Z
DTEND:20260919T000000Z
CLASS:PUBLIC
CREATED:20260425T072944
DESCRIPTION:
LAST-MODIFIED:20260425T072944
LOCATION:
SUMMARY:Elevate Youth
URL;VALUE=URI:https://www.evangelbathurst.ca/events/elevate-youth/2026-09-1
 8
END:VEVENT
END:VCALENDAR
