BEGIN:VCALENDAR
VERSION:2.0
PRODID:icalendar-ruby
CALSCALE:GREGORIAN
METHOD:PUBLISH
BEGIN:VEVENT
DTSTAMP:20260425T150856Z
UID:251-2539011@evangelbathurst.ca
DTSTART:20261002T220000Z
DTEND:20261003T000000Z
CLASS:PUBLIC
CREATED:20260425T101120
DESCRIPTION:
LAST-MODIFIED:20260425T101120
LOCATION:
SUMMARY:Elevate Youth
URL;VALUE=URI:https://www.evangelbathurst.ca/events/elevate-youth/2026-10-0
 2
END:VEVENT
END:VCALENDAR
