BEGIN:VCALENDAR
VERSION:2.0
PRODID:icalendar-ruby
CALSCALE:GREGORIAN
METHOD:PUBLISH
BEGIN:VEVENT
DTSTAMP:20260425T164715Z
UID:251-2540286@evangelbathurst.ca
DTSTART:20261009T220000Z
DTEND:20261010T000000Z
CLASS:PUBLIC
CREATED:20260425T125152
DESCRIPTION:
LAST-MODIFIED:20260425T125152
LOCATION:
SUMMARY:Elevate Youth
URL;VALUE=URI:https://www.evangelbathurst.ca/events/elevate-youth/2026-10-0
 9
END:VEVENT
END:VCALENDAR
