BEGIN:VCALENDAR
VERSION:2.0
PRODID:icalendar-ruby
CALSCALE:GREGORIAN
METHOD:PUBLISH
BEGIN:VEVENT
DTSTAMP:20260425T183652Z
UID:251-2541561@evangelbathurst.ca
DTSTART:20261016T220000Z
DTEND:20261017T000000Z
CLASS:PUBLIC
CREATED:20260425T153200
DESCRIPTION:
LAST-MODIFIED:20260425T153200
LOCATION:
SUMMARY:Elevate Youth
URL;VALUE=URI:https://www.evangelbathurst.ca/events/elevate-youth/2026-10-1
 6
END:VEVENT
END:VCALENDAR
