BEGIN:VCALENDAR
VERSION:2.0
PRODID:icalendar-ruby
CALSCALE:GREGORIAN
METHOD:PUBLISH
BEGIN:VEVENT
DTSTAMP:20260425T201959Z
UID:251-2541562@evangelbathurst.ca
DTSTART:20261023T220000Z
DTEND:20261024T000000Z
CLASS:PUBLIC
CREATED:20260425T153200
DESCRIPTION:
LAST-MODIFIED:20260425T153200
LOCATION:
SUMMARY:Elevate Youth
URL;VALUE=URI:https://www.evangelbathurst.ca/events/elevate-youth/2026-10-2
 3
END:VEVENT
END:VCALENDAR
