BEGIN:VCALENDAR
VERSION:2.0
PRODID:icalendar-ruby
CALSCALE:GREGORIAN
METHOD:PUBLISH
BEGIN:VEVENT
DTSTAMP:20260425T222301Z
UID:251-2542837@evangelbathurst.ca
DTSTART:20261030T220000Z
DTEND:20261031T000000Z
CLASS:PUBLIC
CREATED:20260425T181358
DESCRIPTION:
LAST-MODIFIED:20260425T181358
LOCATION:
SUMMARY:Elevate Youth
URL;VALUE=URI:https://www.evangelbathurst.ca/events/elevate-youth/2026-10-3
 0
END:VEVENT
END:VCALENDAR
