BEGIN:VCALENDAR
VERSION:2.0
PRODID:icalendar-ruby
CALSCALE:GREGORIAN
METHOD:PUBLISH
BEGIN:VEVENT
DTSTAMP:20260426T003237Z
UID:251-2544112@evangelbathurst.ca
DTSTART:20261106T230000Z
DTEND:20261107T010000Z
CLASS:PUBLIC
CREATED:20260425T205702
DESCRIPTION:
LAST-MODIFIED:20260425T205702
LOCATION:
SUMMARY:Elevate Youth
URL;VALUE=URI:https://www.evangelbathurst.ca/events/elevate-youth/2026-11-0
 6
END:VEVENT
END:VCALENDAR
