BEGIN:VCALENDAR
VERSION:2.0
PRODID:icalendar-ruby
CALSCALE:GREGORIAN
METHOD:PUBLISH
BEGIN:VEVENT
DTSTAMP:20260425T014426Z
UID:202-2536338@evangelbathurst.ca
DTSTART:20260827T160000Z
DTEND:20260827T170000Z
CLASS:PUBLIC
CREATED:20260424T213944
DESCRIPTION:
LAST-MODIFIED:20260424T213944
LOCATION:
SUMMARY:Intercessory Prayer
URL;VALUE=URI:https://www.evangelbathurst.ca/events/intercessory-prayer/202
 6-08-27
ATTACH;FILENAME=prayer-of-the-week.jpg;FMTTYPE=image/jpeg:https://dq5pwpg1q
 8ru0.cloudfront.net/2024/03/04/19/37/30/b123cd65-0c7d-4ab4-bdbe-af698e128f
 38/prayer-of-the-week.jpg
END:VEVENT
END:VCALENDAR
